BEGIN:VCALENDAR
VERSION:2.0
PRODID:-//Fabric of Life - ECPv6.15.20//NONSGML v1.0//EN
CALSCALE:GREGORIAN
METHOD:PUBLISH
X-WR-CALNAME:Fabric of Life
X-ORIGINAL-URL:https://www.fabric-of-life.org
X-WR-CALDESC:Events for Fabric of Life
REFRESH-INTERVAL;VALUE=DURATION:PT1H
X-Robots-Tag:noindex
X-PUBLISHED-TTL:PT1H
BEGIN:VTIMEZONE
TZID:America/New_York
BEGIN:DAYLIGHT
TZOFFSETFROM:-0500
TZOFFSETTO:-0400
TZNAME:EDT
DTSTART:20240310T070000
END:DAYLIGHT
BEGIN:STANDARD
TZOFFSETFROM:-0400
TZOFFSETTO:-0500
TZNAME:EST
DTSTART:20241103T060000
END:STANDARD
BEGIN:DAYLIGHT
TZOFFSETFROM:-0500
TZOFFSETTO:-0400
TZNAME:EDT
DTSTART:20250309T070000
END:DAYLIGHT
BEGIN:STANDARD
TZOFFSETFROM:-0400
TZOFFSETTO:-0500
TZNAME:EST
DTSTART:20251102T060000
END:STANDARD
BEGIN:DAYLIGHT
TZOFFSETFROM:-0500
TZOFFSETTO:-0400
TZNAME:EDT
DTSTART:20260308T070000
END:DAYLIGHT
BEGIN:STANDARD
TZOFFSETFROM:-0400
TZOFFSETTO:-0500
TZNAME:EST
DTSTART:20261101T060000
END:STANDARD
END:VTIMEZONE
BEGIN:VEVENT
DTSTART;TZID=America/New_York:20250830T130000
DTEND;TZID=America/New_York:20250830T163000
DTSTAMP:20260425T093220
CREATED:20250607T013303Z
LAST-MODIFIED:20250611T144801Z
UID:6941-1756558800-1756571400@www.fabric-of-life.org
SUMMARY:August 30\, 2025: Hand Stitching to Repair and Embellish
DESCRIPTION:In this workshop\, Katie Cavacco will introduce students to a variety of simple utility stitches that can be used to repair knits and wovens. Students will complete a labeled stitch sampler to take home for reference\, and the workshop will also include time to problem solve as a group on specific items you want to mend. \n  \nREGISTER
URL:https://www.fabric-of-life.org/event/august-30-2025-hand-stitching-to-repair-and-embellish/
LOCATION:Fabric of Life Farmhouse\, 80 Bassett Road\, Shelburne\, MA\, 01370
CATEGORIES:In Person Programs
ATTACH;FMTTYPE=image/jpeg:https://www.fabric-of-life.org/FoL/wp-content/uploads/2025/06/IMG_3198s.jpg
END:VEVENT
END:VCALENDAR