BEGIN:VCALENDAR
VERSION:2.0
PRODID:-//Fabric of Life - ECPv6.15.20//NONSGML v1.0//EN
CALSCALE:GREGORIAN
METHOD:PUBLISH
X-WR-CALNAME:Fabric of Life
X-ORIGINAL-URL:https://www.fabric-of-life.org
X-WR-CALDESC:Events for Fabric of Life
REFRESH-INTERVAL;VALUE=DURATION:PT1H
X-Robots-Tag:noindex
X-PUBLISHED-TTL:PT1H
BEGIN:VTIMEZONE
TZID:America/New_York
BEGIN:DAYLIGHT
TZOFFSETFROM:-0500
TZOFFSETTO:-0400
TZNAME:EDT
DTSTART:20240310T070000
END:DAYLIGHT
BEGIN:STANDARD
TZOFFSETFROM:-0400
TZOFFSETTO:-0500
TZNAME:EST
DTSTART:20241103T060000
END:STANDARD
BEGIN:DAYLIGHT
TZOFFSETFROM:-0500
TZOFFSETTO:-0400
TZNAME:EDT
DTSTART:20250309T070000
END:DAYLIGHT
BEGIN:STANDARD
TZOFFSETFROM:-0400
TZOFFSETTO:-0500
TZNAME:EST
DTSTART:20251102T060000
END:STANDARD
BEGIN:DAYLIGHT
TZOFFSETFROM:-0500
TZOFFSETTO:-0400
TZNAME:EDT
DTSTART:20260308T070000
END:DAYLIGHT
BEGIN:STANDARD
TZOFFSETFROM:-0400
TZOFFSETTO:-0500
TZNAME:EST
DTSTART:20261101T060000
END:STANDARD
END:VTIMEZONE
BEGIN:VEVENT
DTSTART;TZID=America/New_York:20250913T190000
DTEND;TZID=America/New_York:20250913T210000
DTSTAMP:20260425T070412
CREATED:20250324T193346Z
LAST-MODIFIED:20250913T183926Z
UID:6804-1757790000-1757797200@www.fabric-of-life.org
SUMMARY:CANCELLED: September 13\, 2025: Eddie Forman Orchestra
DESCRIPTION:THIS EVENT HAS BEEN CANCELLED. \nPlease make sure you subscribe to our email list so we can let you know when we reschedule the Eddie Forman Orchestra! \n  \nPeople of all ages are invited to join the Eddie Forman Orchestra to dance and enjoy a fun-filled evening of good music at the Buckland Public Hall on September 13\, 2025. \n4:00PM: Workshop for musicians. \n5:30PM: Dance workshop\, followed by a lively concert and dance music played by the Eddie Forman Orchestra – complete with polish food. \nThe Eddie Forman Orchestra\, also known as “E.F.O.”\, is a western Massachusetts polka band that has been performing before audiences since 1968. Eddie Forman started the band while he was still in high school\, and has been creating and recreating music ever since. The Eddie Forman Orchestra has one of the largest followings in the New England area. Eddie has been quoted saying: “It is people like you that have kept us playing for all these years\, and as long as you are here\, so is E.F.O.” E.F.O. is known for their standard Polkas with Polish lyrics. They are without a doubt one of the hardest working bands giving the fans an abundance of music. \nThe Eddie Forman Orchestra has received numerous awards in recognition of promoting polka music and culture. Eddie had the honor of being inducted in the International Polka Music Hall of Fame on August 5th\, 2006. \nThe E.F.O. has made eighteen recordings; “The Rest of My Years” “Accordion to Eddie” is their most recent. This recording features a different style of polkas. The band is composed of a very diverse group of musicians. They have an expanded repertoire of music and have performed over the years at many venues throughout New England\, New Jersey\, New York\, Pennsylvania\, Maryland\, Michigan\, California and Florida. The E.F.O. has also been featured on several cruises to the Caribbean Islands and Bermuda. Eddie along with his wife Carol organizes bus tours taking their large following of dedicated fans to various festivals and polka weekends. \nThe Eddie Forman Orchestra is in high demand and has performed throughout the United States. The band’s enthusiasm and love for the music they perform\, their versatility and ability to embrace a wide range of styles and their dedication to strong\, lively performances make the E.F.O. an enduring success. \n \nLearn more about the Eddie Forman Orchestra
URL:https://www.fabric-of-life.org/event/september-13-2025-eddie-forman-orchestra/
LOCATION:Buckland Public Hall\, 15 Upper St\, Buckland\, MA\, United States
CATEGORIES:In Person Programs
ATTACH;FMTTYPE=image/jpeg:https://www.fabric-of-life.org/FoL/wp-content/uploads/2025/03/band010125.jpg
END:VEVENT
END:VCALENDAR