BEGIN:VCALENDAR
VERSION:2.0
PRODID:-//Fabric of Life - ECPv6.15.20//NONSGML v1.0//EN
CALSCALE:GREGORIAN
METHOD:PUBLISH
X-WR-CALNAME:Fabric of Life
X-ORIGINAL-URL:https://www.fabric-of-life.org
X-WR-CALDESC:Events for Fabric of Life
REFRESH-INTERVAL;VALUE=DURATION:PT1H
X-Robots-Tag:noindex
X-PUBLISHED-TTL:PT1H
BEGIN:VTIMEZONE
TZID:America/New_York
BEGIN:DAYLIGHT
TZOFFSETFROM:-0500
TZOFFSETTO:-0400
TZNAME:EDT
DTSTART:20240310T070000
END:DAYLIGHT
BEGIN:STANDARD
TZOFFSETFROM:-0400
TZOFFSETTO:-0500
TZNAME:EST
DTSTART:20241103T060000
END:STANDARD
BEGIN:DAYLIGHT
TZOFFSETFROM:-0500
TZOFFSETTO:-0400
TZNAME:EDT
DTSTART:20250309T070000
END:DAYLIGHT
BEGIN:STANDARD
TZOFFSETFROM:-0400
TZOFFSETTO:-0500
TZNAME:EST
DTSTART:20251102T060000
END:STANDARD
BEGIN:DAYLIGHT
TZOFFSETFROM:-0500
TZOFFSETTO:-0400
TZNAME:EDT
DTSTART:20260308T070000
END:DAYLIGHT
BEGIN:STANDARD
TZOFFSETFROM:-0400
TZOFFSETTO:-0500
TZNAME:EST
DTSTART:20261101T060000
END:STANDARD
END:VTIMEZONE
BEGIN:VEVENT
DTSTART;TZID=America/New_York:20250308T090000
DTEND;TZID=America/New_York:20250308T120000
DTSTAMP:20260425T162323
CREATED:20250201T021114Z
LAST-MODIFIED:20250202T000158Z
UID:6033-1741424400-1741435200@www.fabric-of-life.org
SUMMARY:March 8\, 2025: Pruning for Resilience with Walker Korby
DESCRIPTION:Join local arborculturalist\, Walker Korby for a morning of hands-on instruction as we begin the process of reclaiming the Bassett Homestead apple orchard. \nThe fundamentals of any pruning regimen should always start with understanding how trees grow\, break\, heal\, and degrade over time. Once you have internalized some of this knowledge\, and have understood  the effects our actions can have\, we are well on our way to a successful pruning journey. In this class we will enter this journey through the process of reclaiming some older fruit trees that have been left untended. The concepts and guidelines that we will focus on will cover what and where to remove in order to encourage a structure that will withstand wind\, ice\, heavy fruits\, and last for generations. This class is designed to enhance your understanding and create a framework of the why and how we make pruning cuts. It will be appropriate for beginners as well as those who are already comfortable on a pruning ladder with a pair of Felcos. Bring along any pruning tools you have\, a pair of safety glasses and a willingness to learn! \nRegister
URL:https://www.fabric-of-life.org/event/march-8-2025-pruning-for-resilience-with-walker-korby/
LOCATION:Fabric of Life Farmhouse\, 80 Bassett Road\, Shelburne\, MA\, 01370
CATEGORIES:In Person Programs
ATTACH;FMTTYPE=image/jpeg:https://www.fabric-of-life.org/FoL/wp-content/uploads/2025/01/Apple-Blossom.jpg
END:VEVENT
END:VCALENDAR