BEGIN:VCALENDAR
VERSION:2.0
PRODID:-//Fabric of Life - ECPv6.15.20//NONSGML v1.0//EN
CALSCALE:GREGORIAN
METHOD:PUBLISH
X-ORIGINAL-URL:https://www.fabric-of-life.org
X-WR-CALDESC:Events for Fabric of Life
REFRESH-INTERVAL;VALUE=DURATION:PT1H
X-Robots-Tag:noindex
X-PUBLISHED-TTL:PT1H
BEGIN:VTIMEZONE
TZID:America/New_York
BEGIN:DAYLIGHT
TZOFFSETFROM:-0500
TZOFFSETTO:-0400
TZNAME:EDT
DTSTART:20240310T070000
END:DAYLIGHT
BEGIN:STANDARD
TZOFFSETFROM:-0400
TZOFFSETTO:-0500
TZNAME:EST
DTSTART:20241103T060000
END:STANDARD
BEGIN:DAYLIGHT
TZOFFSETFROM:-0500
TZOFFSETTO:-0400
TZNAME:EDT
DTSTART:20250309T070000
END:DAYLIGHT
BEGIN:STANDARD
TZOFFSETFROM:-0400
TZOFFSETTO:-0500
TZNAME:EST
DTSTART:20251102T060000
END:STANDARD
BEGIN:DAYLIGHT
TZOFFSETFROM:-0500
TZOFFSETTO:-0400
TZNAME:EDT
DTSTART:20260308T070000
END:DAYLIGHT
BEGIN:STANDARD
TZOFFSETFROM:-0400
TZOFFSETTO:-0500
TZNAME:EST
DTSTART:20261101T060000
END:STANDARD
END:VTIMEZONE
BEGIN:VEVENT
DTSTART;TZID=America/New_York:20250223T160000
DTEND;TZID=America/New_York:20250223T210000
DTSTAMP:20260425T180812
CREATED:20250127T015740Z
LAST-MODIFIED:20250201T174042Z
UID:5816-1740326400-1740344400@www.fabric-of-life.org
SUMMARY:February 23\, 2025: Fireside Orchestra Session I
DESCRIPTION:Dance music has an important role in our communities. It brings joy not only to those who play\, but also to those who listen or dance. Being a part of this process on any level helps our world become a better place. \nJoin us for two fun eclectic dance music sessions in our Farmhouse living room on February 23rd and March 23rd as we begin to build our Fabric of Life Fireside Orchestra. The third session on May 15th will be review for our May 17th Contra Dance at the Buckland Public Hall. Those who wish are invited to join the band on the tunes learned at the Farmhouse sessions. \nREGISTER
URL:https://www.fabric-of-life.org/event/february-23-2025-fireside-orchestra-session-i/
LOCATION:Fabric of Life Farmhouse\, 80 Bassett Road\, Shelburne\, MA\, 01370
CATEGORIES:In Person Programs
ATTACH;FMTTYPE=image/jpeg:https://www.fabric-of-life.org/FoL/wp-content/uploads/2025/01/IMG_9726-1-scaled-e1738429533898.jpg
END:VEVENT
END:VCALENDAR