BEGIN:VCALENDAR
VERSION:2.0
PRODID:-//Fabric of Life - ECPv6.15.20//NONSGML v1.0//EN
CALSCALE:GREGORIAN
METHOD:PUBLISH
X-WR-CALNAME:Fabric of Life
X-ORIGINAL-URL:https://www.fabric-of-life.org
X-WR-CALDESC:Events for Fabric of Life
REFRESH-INTERVAL;VALUE=DURATION:PT1H
X-Robots-Tag:noindex
X-PUBLISHED-TTL:PT1H
BEGIN:VTIMEZONE
TZID:America/New_York
BEGIN:DAYLIGHT
TZOFFSETFROM:-0500
TZOFFSETTO:-0400
TZNAME:EDT
DTSTART:20240310T070000
END:DAYLIGHT
BEGIN:STANDARD
TZOFFSETFROM:-0400
TZOFFSETTO:-0500
TZNAME:EST
DTSTART:20241103T060000
END:STANDARD
BEGIN:DAYLIGHT
TZOFFSETFROM:-0500
TZOFFSETTO:-0400
TZNAME:EDT
DTSTART:20250309T070000
END:DAYLIGHT
BEGIN:STANDARD
TZOFFSETFROM:-0400
TZOFFSETTO:-0500
TZNAME:EST
DTSTART:20251102T060000
END:STANDARD
BEGIN:DAYLIGHT
TZOFFSETFROM:-0500
TZOFFSETTO:-0400
TZNAME:EDT
DTSTART:20260308T070000
END:DAYLIGHT
BEGIN:STANDARD
TZOFFSETFROM:-0400
TZOFFSETTO:-0500
TZNAME:EST
DTSTART:20261101T060000
END:STANDARD
END:VTIMEZONE
BEGIN:VEVENT
DTSTART;TZID=America/New_York:20250726T160000
DTEND;TZID=America/New_York:20250726T210000
DTSTAMP:20260425T103612
CREATED:20250324T185917Z
LAST-MODIFIED:20250504T010629Z
UID:6796-1753545600-1753563600@www.fabric-of-life.org
SUMMARY:July 26\, 2025: Larry & Joe Concert & Workshop
DESCRIPTION:Concert: 7-9PM \nJoin Larry & Joe at the Buckland Public Hall for an evening of music without borders. Reimagining their two musical traditions\, Llanera superstar Larry Bellorín (Venezuela) and Latingrass GRAMMY-nominee Joe Troop (North Carolina) play harp\, banjo\, fiddle\, cuatro\, maracas\, guitar\, upright bass\, and sing to inspire joy and unity. \n  \nPre-concert Workshop: 4PM \nGabán / Latin Strings / Venezuelan Strings \nDuring this afternoon workshop\, Larry & Joe will teach attendees a two-chord gabán\, a fundamental rhythmic and harmonic structure of the musical style\, la música llanera. Participants will learn how strings are used percussively through muting and golpes to create the iconic joropo feel. Though Larry & Joe will use the cuatro (an instrument intrinsically bound to the Venezuelan identity) as a teaching tool\, this language is translatable to other string instruments like the banjo. \nWorkshop open to musicians of all-levels. Instruments welcome and encouraged but not required. \n  \nPRE-REGISTER
URL:https://www.fabric-of-life.org/event/july-26-2025-larry-joe-concert-workshop/
LOCATION:Buckland Public Hall\, 15 Upper St\, Buckland\, MA\, United States
CATEGORIES:In Person Programs
ATTACH;FMTTYPE=image/jpeg:https://www.fabric-of-life.org/FoL/wp-content/uploads/2025/03/03-Larry-Joe-credit-Tommy-Coyote.jpg
END:VEVENT
END:VCALENDAR