BEGIN:VCALENDAR
VERSION:2.0
PRODID:-//Fabric of Life - ECPv6.15.20//NONSGML v1.0//EN
CALSCALE:GREGORIAN
METHOD:PUBLISH
X-WR-CALNAME:Fabric of Life
X-ORIGINAL-URL:https://www.fabric-of-life.org
X-WR-CALDESC:Events for Fabric of Life
REFRESH-INTERVAL;VALUE=DURATION:PT1H
X-Robots-Tag:noindex
X-PUBLISHED-TTL:PT1H
BEGIN:VTIMEZONE
TZID:America/New_York
BEGIN:DAYLIGHT
TZOFFSETFROM:-0500
TZOFFSETTO:-0400
TZNAME:EDT
DTSTART:20240310T070000
END:DAYLIGHT
BEGIN:STANDARD
TZOFFSETFROM:-0400
TZOFFSETTO:-0500
TZNAME:EST
DTSTART:20241103T060000
END:STANDARD
BEGIN:DAYLIGHT
TZOFFSETFROM:-0500
TZOFFSETTO:-0400
TZNAME:EDT
DTSTART:20250309T070000
END:DAYLIGHT
BEGIN:STANDARD
TZOFFSETFROM:-0400
TZOFFSETTO:-0500
TZNAME:EST
DTSTART:20251102T060000
END:STANDARD
BEGIN:DAYLIGHT
TZOFFSETFROM:-0500
TZOFFSETTO:-0400
TZNAME:EDT
DTSTART:20260308T070000
END:DAYLIGHT
BEGIN:STANDARD
TZOFFSETFROM:-0400
TZOFFSETTO:-0500
TZNAME:EST
DTSTART:20261101T060000
END:STANDARD
END:VTIMEZONE
BEGIN:VEVENT
DTSTART;TZID=America/New_York:20250628T090000
DTEND;TZID=America/New_York:20250628T170000
DTSTAMP:20260425T110926
CREATED:20250127T021831Z
LAST-MODIFIED:20250201T225536Z
UID:5825-1751101200-1751130000@www.fabric-of-life.org
SUMMARY:June 28\, 2025: Twilled Muffin Basket with Wendy Jensen
DESCRIPTION:Wendy Jensen will lead participants as they create a Twilled Muffin Basket with Braided Lash during this workshop. \nStudents will lay out a “spoked” base using rattan flat stakes. A continuous weave will be used to start this basket. The stakes are split and the weave will continue up the sides of the basket with a 2/2 twill weaving pattern. Shaping techniques will be taught as the sides are woven. Rim fitting\, scarfing and a decorative “braided” lash will be taught. Basket measures about 4” high by 10” wide\, a nice size to serve your favorite muffins. \nREGISTER
URL:https://www.fabric-of-life.org/event/june-28-2025-twilled-muffin-basket-with-wendy-jensen/
LOCATION:Fabric of Life Farmhouse\, 80 Bassett Road\, Shelburne\, MA\, 01370
CATEGORIES:In Person Programs
ATTACH;FMTTYPE=image/jpeg:https://www.fabric-of-life.org/FoL/wp-content/uploads/2025/01/WJ_100716_21_-scaled.jpg
END:VEVENT
END:VCALENDAR