BEGIN:VCALENDAR
VERSION:2.0
PRODID:-//Fabric of Life - ECPv6.15.20//NONSGML v1.0//EN
CALSCALE:GREGORIAN
METHOD:PUBLISH
X-ORIGINAL-URL:https://www.fabric-of-life.org
X-WR-CALDESC:Events for Fabric of Life
REFRESH-INTERVAL;VALUE=DURATION:PT1H
X-Robots-Tag:noindex
X-PUBLISHED-TTL:PT1H
BEGIN:VTIMEZONE
TZID:America/New_York
BEGIN:DAYLIGHT
TZOFFSETFROM:-0500
TZOFFSETTO:-0400
TZNAME:EDT
DTSTART:20240310T070000
END:DAYLIGHT
BEGIN:STANDARD
TZOFFSETFROM:-0400
TZOFFSETTO:-0500
TZNAME:EST
DTSTART:20241103T060000
END:STANDARD
BEGIN:DAYLIGHT
TZOFFSETFROM:-0500
TZOFFSETTO:-0400
TZNAME:EDT
DTSTART:20250309T070000
END:DAYLIGHT
BEGIN:STANDARD
TZOFFSETFROM:-0400
TZOFFSETTO:-0500
TZNAME:EST
DTSTART:20251102T060000
END:STANDARD
BEGIN:DAYLIGHT
TZOFFSETFROM:-0500
TZOFFSETTO:-0400
TZNAME:EDT
DTSTART:20260308T070000
END:DAYLIGHT
BEGIN:STANDARD
TZOFFSETFROM:-0400
TZOFFSETTO:-0500
TZNAME:EST
DTSTART:20261101T060000
END:STANDARD
END:VTIMEZONE
BEGIN:VEVENT
DTSTART;TZID=America/New_York:20250226T190000
DTEND;TZID=America/New_York:20250226T203000
DTSTAMP:20260425T200454
CREATED:20250129T050819Z
LAST-MODIFIED:20250226T215647Z
UID:5860-1740596400-1740601800@www.fabric-of-life.org
SUMMARY:February 26\, 2025: Introduction to Sprang with Carol James
DESCRIPTION:Instructor: Carol James \nPronouns: she/her/hers \nDate: Wednesday\, February 26\, 2025 \nDuration:  90 minutes\n \nTime: 7:00PM to 8:30PM EST \nLocation: Zoom \nCost: FREE\, please pre-register below\, or by emailing office@fabric-of-life.org \nExperience Level: All are welcome. \n\nProgram Description \nOn Wednesday\, February 26th at 7PM EST\, Fabric of Life will be hosting Carol James for an information session on the reciprocal textile technique called Sprang. This technique is found throughout the world in different cultures and can be used to make almost anything from belts to bags to beautiful garments. Register now to learn about this ancient technique: what it is\, how it works\, it’s long history\, and some of the surface design techniques that can be used. \n\nWhy do Sprang? \n \n\nAbout Carol James \nCarol James has been exploring low-tech textile methods for 30 years. Her specialty is an ancient\, almost forgotten technique called sprang. She has examined sprang items in collections across the US and Europe\, and has made replicas of some well known pieces such as the Arizona Openwork Shirt and George Washington’s sash. She has also created modern garments deemed worthy of the Handweavers Guild of America fashion show. Carol has taught in Canada\, the US\, Europe\, and New Zealand. Students describe her as patient\, knowledgeable\, and passionate. She spent her COVID time charting sprang lace designs and writing up patterns\, and is author of numerous articles\, the books Sprang Unsprung\, Fingerweaving Untangled\, six books of sprang lace patterns\, and 2 instructional DVDs. Learn more about Carol at: www.spranglady.com
URL:https://www.fabric-of-life.org/event/february-26-2025-introduction-to-sprang-with-carol-james/
LOCATION:Live ZOOM Session
CATEGORIES:Virtual Programs
ATTACH;FMTTYPE=image/jpeg:https://www.fabric-of-life.org/FoL/wp-content/uploads/2025/01/Carol-James.jpg
END:VEVENT
END:VCALENDAR