BEGIN:VCALENDAR
VERSION:2.0
PRODID:-//Fabric of Life - ECPv6.15.20//NONSGML v1.0//EN
CALSCALE:GREGORIAN
METHOD:PUBLISH
X-WR-CALNAME:Fabric of Life
X-ORIGINAL-URL:https://www.fabric-of-life.org
X-WR-CALDESC:Events for Fabric of Life
REFRESH-INTERVAL;VALUE=DURATION:PT1H
X-Robots-Tag:noindex
X-PUBLISHED-TTL:PT1H
BEGIN:VTIMEZONE
TZID:UTC
BEGIN:STANDARD
TZOFFSETFROM:+0000
TZOFFSETTO:+0000
TZNAME:UTC
DTSTART:20200101T000000
END:STANDARD
END:VTIMEZONE
BEGIN:VTIMEZONE
TZID:America/New_York
BEGIN:DAYLIGHT
TZOFFSETFROM:-0500
TZOFFSETTO:-0400
TZNAME:EDT
DTSTART:20200308T070000
END:DAYLIGHT
BEGIN:STANDARD
TZOFFSETFROM:-0400
TZOFFSETTO:-0500
TZNAME:EST
DTSTART:20201101T060000
END:STANDARD
BEGIN:DAYLIGHT
TZOFFSETFROM:-0500
TZOFFSETTO:-0400
TZNAME:EDT
DTSTART:20210314T070000
END:DAYLIGHT
BEGIN:STANDARD
TZOFFSETFROM:-0400
TZOFFSETTO:-0500
TZNAME:EST
DTSTART:20211107T060000
END:STANDARD
BEGIN:DAYLIGHT
TZOFFSETFROM:-0500
TZOFFSETTO:-0400
TZNAME:EDT
DTSTART:20220313T070000
END:DAYLIGHT
BEGIN:STANDARD
TZOFFSETFROM:-0400
TZOFFSETTO:-0500
TZNAME:EST
DTSTART:20221106T060000
END:STANDARD
END:VTIMEZONE
BEGIN:VTIMEZONE
TZID:America/New_York
BEGIN:DAYLIGHT
TZOFFSETFROM:-0500
TZOFFSETTO:-0400
TZNAME:EDT
DTSTART:20200308T070000
END:DAYLIGHT
BEGIN:STANDARD
TZOFFSETFROM:-0400
TZOFFSETTO:-0500
TZNAME:EST
DTSTART:20201101T060000
END:STANDARD
BEGIN:DAYLIGHT
TZOFFSETFROM:-0500
TZOFFSETTO:-0400
TZNAME:EDT
DTSTART:20210314T070000
END:DAYLIGHT
BEGIN:STANDARD
TZOFFSETFROM:-0400
TZOFFSETTO:-0500
TZNAME:EST
DTSTART:20211107T060000
END:STANDARD
BEGIN:DAYLIGHT
TZOFFSETFROM:-0500
TZOFFSETTO:-0400
TZNAME:EDT
DTSTART:20220313T070000
END:DAYLIGHT
BEGIN:STANDARD
TZOFFSETFROM:-0400
TZOFFSETTO:-0500
TZNAME:EST
DTSTART:20221106T060000
END:STANDARD
END:VTIMEZONE
BEGIN:VEVENT
DTSTART;TZID=UTC:20210925T090000
DTEND;TZID=UTC:20210925T163000
DTSTAMP:20260424T193648
CREATED:20210320T092313Z
LAST-MODIFIED:20210323T071239Z
UID:2681-1632560400-1632587400@www.fabric-of-life.org
SUMMARY:Flax Day: Comparison of Northern Traditions – Growing\, Preparation\, Spinning\, and Weaving
DESCRIPTION:In this magical day\, Fabric of Life’s Becky Ashenden and handweaver Justin Squizzero guide a hands-on experience of the Northern traditions of growing\, preparing\, weaving\, and spinning with flax. \n  \n  \nLEARN MORE
URL:https://www.fabric-of-life.org/event/flax-day-comparison-of-northern-traditions-growing-preparation-spinning-and-weaving-21/
LOCATION:Fabric of Life Farmhouse\, 80 Bassett Road\, Shelburne\, MA\, 01370
CATEGORIES:In Person Programs
ATTACH;FMTTYPE=image/jpeg:https://www.fabric-of-life.org/FoL/wp-content/uploads/2020/01/Seed-Removal-3.jpg
END:VEVENT
BEGIN:VEVENT
DTSTART;TZID=UTC:20210919T133000
DTEND;TZID=UTC:20210919T160000
DTSTAMP:20260424T193648
CREATED:20210323T054314Z
LAST-MODIFIED:20210323T215605Z
UID:2899-1632058200-1632067200@www.fabric-of-life.org
SUMMARY:Broom Making Workshop B: September 19\, 2021\, 1:30pm to 4pm   
DESCRIPTION:Eva Gaultney teaches participants the process of creating a broom from broom corn and will weave their own shaker combo broom.  Students will take home a cake tester\, pot scrubber\, and a hand broom at the end of this 2.5 hour afternoon workshop. \n  \n  \nLEARN MORE
URL:https://www.fabric-of-life.org/event/broom-making-workshop-b-sept-2021/
LOCATION:Fabric of Life Farmhouse\, 80 Bassett Road\, Shelburne\, MA\, 01370
CATEGORIES:In Person Programs
ATTACH;FMTTYPE=image/jpeg:https://www.fabric-of-life.org/FoL/wp-content/uploads/2019/07/broom-corn-small-e1616210790345.jpg
END:VEVENT
BEGIN:VEVENT
DTSTART;TZID=UTC:20210919T093000
DTEND;TZID=UTC:20210919T120000
DTSTAMP:20260424T193648
CREATED:20210320T083229Z
LAST-MODIFIED:20210323T072002Z
UID:2658-1632043800-1632052800@www.fabric-of-life.org
SUMMARY:Broom Making Workshop A: September 19\, 2021\, 9:30am to 12pm   
DESCRIPTION:Eva Gaultney teaches participants the process of creating a broom from broom corn and will weave their own shaker combo broom.  Students will take home a cake tester\, pot scrubber\, and a hand broom at the end of this 2.5 hour morning workshop. \n  \n  \nLEARN MORE
URL:https://www.fabric-of-life.org/event/broom-making-workshop-a-sept-2021/
LOCATION:Fabric of Life Farmhouse\, 80 Bassett Road\, Shelburne\, MA\, 01370
CATEGORIES:In Person Programs
ATTACH;FMTTYPE=image/jpeg:https://www.fabric-of-life.org/FoL/wp-content/uploads/2019/07/broom-corn-small-e1616210790345.jpg
END:VEVENT
BEGIN:VEVENT
DTSTART;TZID=America/New_York:20210903T150000
DTEND;TZID=America/New_York:20210903T180000
DTSTAMP:20260424T193648
CREATED:20210827T050932Z
LAST-MODIFIED:20210827T050932Z
UID:3338-1630681200-1630692000@www.fabric-of-life.org
SUMMARY:2021 Väv Immersion Grand Exhibition & Celebration
DESCRIPTION:Friday\, September 3rd\, 2021 from 3-6pm\nCome and go as you please!\n80 Bassett Road\, Shelburne Center\, MA 01370 \nWe hope that you will join us for a Grand Exhibition where we will celebrate the hard work of our fourth Väv Immersion cohort. Since July 12th\, these amazing individuals have been designing\, weaving\, hemming and learning copious amounts about making textiles. Yummy treats will be available\, as Melvenea\, Caroline\, Gyorgyi\, Sara and Jules share stories of their weaving days! \nView Väv Immersion Grand Exhibition Flyer
URL:https://www.fabric-of-life.org/event/2021-vav-immersion-grand-exhibition-celebration/
LOCATION:Fabric of Life Farmhouse\, 80 Bassett Road\, Shelburne\, MA\, 01370
CATEGORIES:In Person Programs
END:VEVENT
BEGIN:VEVENT
DTSTART;TZID=UTC:20210731T093000
DTEND;TZID=UTC:20210731T133000
DTSTAMP:20260424T193648
CREATED:20210322T064830Z
LAST-MODIFIED:20210602T053803Z
UID:2693-1627723800-1627738200@www.fabric-of-life.org
SUMMARY:Beekeeping Series: Building a Relationship with Bees & Planning the Care of a Honeybee Hive
DESCRIPTION:In this two part series\, Ang Roell of They Keep Bees will help participants develop a plan outlining the tools\, materials and care strategies necessary to begin keeping honeybees.  Both classes will be made up of lecture\, hands on experience with honeybees and research/planning. \n\n  \nSession 1: Saturday\, July 31\, 2021\nBuilding A Relationship with Honeybees \n  \nSession 2: Saturday\, August 7th\, 2021\nPlanning and Care of the Honeybee Hive \n\n  \n  \n\nLEARN MORE 
URL:https://www.fabric-of-life.org/event/beekeeping-series/
LOCATION:Fabric of Life Farmhouse\, 80 Bassett Road\, Shelburne\, MA\, 01370
CATEGORIES:In Person Programs
ATTACH;FMTTYPE=image/jpeg:https://www.fabric-of-life.org/FoL/wp-content/uploads/2020/01/They-keep-bees-2.jpg
END:VEVENT
BEGIN:VEVENT
DTSTART;VALUE=DATE:20210712
DTEND;VALUE=DATE:20210904
DTSTAMP:20260424T193648
CREATED:20210223T195711Z
LAST-MODIFIED:20210323T075024Z
UID:2526-1626048000-1630713599@www.fabric-of-life.org
SUMMARY:Väv Immersion Weaving Intensive
DESCRIPTION:Väv Immersion 2021 is an 8-week weaving intensive co-sponsored by Fabric of Life and Vävstuga Weaving School and taught by Becky Ashenden\, Lisa Hill and Eva Gaultney. \n  \nThis in-depth program reinforces the historic lineage of Scandinavian hand weaving through a range of educational opportunities including: personalized instruction with master weavers\, hands-on production of numerous textile projects\, attendance at intimately-sized classes that focus on an extensive array of skills\, and connection to Immersion alumni from past years to build out your network and for learning how to move into this field as a professional. \n  \nYou will gain a deep cultural appreciation of the aesthetic and functional way of life within this tradition\, and a commitment to enhancing your life and the lives of others with these skills. The knowledge gained from this experience creates a foundation for further professional opportunities such as museum work\, production weaving\, textile retail\, and teaching. Ultimately\, the preservation of the tradition\, culture\, and function of hand weaving for future generations is carried forward through this intensive program. \n  \n  \nLEARN MORE
URL:https://www.fabric-of-life.org/event/vav-immersion-weaving-intensive/
LOCATION:Fabric of Life Farmhouse\, 80 Bassett Road\, Shelburne\, MA\, 01370
CATEGORIES:In Person Programs
ATTACH;FMTTYPE=image/jpeg:https://www.fabric-of-life.org/FoL/wp-content/uploads/2021/02/KateBullen_VavImmersion7.jpg
END:VEVENT
BEGIN:VEVENT
DTSTART;TZID=UTC:20210620T093000
DTEND;TZID=UTC:20210620T123000
DTSTAMP:20260424T193648
CREATED:20210322T065033Z
LAST-MODIFIED:20210406T191705Z
UID:2664-1624181400-1624192200@www.fabric-of-life.org
SUMMARY:Hand Stitching to Repair and Embellish
DESCRIPTION:In this workshop\, Katie Cavacco will introduce students to a variety of simple utility stitches that can be used to repair knits and wovens. Students will complete a labeled stitch sampler to take home for reference\, and the workshop will also include time to problem solve as a group on specific items you want to mend. \n  \n  \nLEARN MORE
URL:https://www.fabric-of-life.org/event/hand-stitching-to-repair-and-embellish/
LOCATION:Fabric of Life Farmhouse\, 80 Bassett Road\, Shelburne\, MA\, 01370
CATEGORIES:In Person Programs
ATTACH;FMTTYPE=image/jpeg:https://www.fabric-of-life.org/FoL/wp-content/uploads/2021/03/03.jpg
END:VEVENT
BEGIN:VEVENT
DTSTART;TZID=UTC:20210619T133000
DTEND;TZID=UTC:20210619T160000
DTSTAMP:20260424T193648
CREATED:20210323T060600Z
LAST-MODIFIED:20210323T072052Z
UID:2905-1624109400-1624118400@www.fabric-of-life.org
SUMMARY:Broom Making Workshop B: June 19\, 2021\, 1:30pm to 4pm
DESCRIPTION:Eva Gaultney teaches participants the process of creating a broom from broom corn and will weave their own shaker combo broom.  Students will take home a cake tester\, pot scrubber\, and a hand broom at the end of this 2.5 hour afternoon workshop. \n  \n  \nLEARN MORE
URL:https://www.fabric-of-life.org/event/broom-making-workshop-b-june-19-2021/
LOCATION:Fabric of Life Farmhouse\, 80 Bassett Road\, Shelburne\, MA\, 01370
CATEGORIES:In Person Programs
ATTACH;FMTTYPE=image/jpeg:https://www.fabric-of-life.org/FoL/wp-content/uploads/2019/07/broom-corn-small-e1616210790345.jpg
END:VEVENT
BEGIN:VEVENT
DTSTART;TZID=America/New_York:20210619T093000
DTEND;TZID=America/New_York:20210619T120000
DTSTAMP:20260424T193648
CREATED:20210320T082539Z
LAST-MODIFIED:20210613T042010Z
UID:2652-1624095000-1624104000@www.fabric-of-life.org
SUMMARY:Broom Making Workshop A: June 19\, 2021\, 9:30am to 12pm
DESCRIPTION:Eva Gaultney teaches participants the process of creating a broom from broom corn and will weave their own shaker combo broom.  Students will take home a cake tester\, pot scrubber\, and a hand broom at the end of this 2.5 hour morning workshop. \n  \n  \nLEARN MORE
URL:https://www.fabric-of-life.org/event/broom-making-workshop-a-june-19-2021/
LOCATION:Fabric of Life Farmhouse\, 80 Bassett Road\, Shelburne\, MA\, 01370
CATEGORIES:In Person Programs
ATTACH;FMTTYPE=image/jpeg:https://www.fabric-of-life.org/FoL/wp-content/uploads/2019/07/broom-corn-small-e1616210790345.jpg
END:VEVENT
BEGIN:VEVENT
DTSTART;TZID=UTC:20210501T090000
DTEND;TZID=UTC:20210501T120000
DTSTAMP:20260424T193648
CREATED:20210323T093915Z
LAST-MODIFIED:20210421T092914Z
UID:2938-1619859600-1619870400@www.fabric-of-life.org
SUMMARY:Understanding Your Garden - Session 1 of 5
DESCRIPTION:This series of information sharing sessions will include a visit to the Fabric of Life garden in Shelburne\, MA at the beginning and end of the growing season\, as well as four 1 hour virtual check-ins during the summer. We will kick the series off with a 3 hour in-person program\, where ML Altobelli of ML’s Greenery in Motion will teach us how to prepare our gardens to be more resilient to the effects of pests\, disease\, compaction\, and drought. \n  \n  \n  \n  \nLEARN MORE
URL:https://www.fabric-of-life.org/event/understanding-your-garden-1/
LOCATION:Fabric of Life Farmhouse\, 80 Bassett Road\, Shelburne\, MA\, 01370
CATEGORIES:In Person Programs
ATTACH;FMTTYPE=image/jpeg:https://www.fabric-of-life.org/FoL/wp-content/uploads/2021/03/IMG_7885cr-scaled.jpg
END:VEVENT
END:VCALENDAR