BEGIN:VCALENDAR
VERSION:2.0
PRODID:-//Fabric of Life - ECPv6.15.20//NONSGML v1.0//EN
CALSCALE:GREGORIAN
METHOD:PUBLISH
X-ORIGINAL-URL:https://www.fabric-of-life.org
X-WR-CALDESC:Events for Fabric of Life
REFRESH-INTERVAL;VALUE=DURATION:PT1H
X-Robots-Tag:noindex
X-PUBLISHED-TTL:PT1H
BEGIN:VTIMEZONE
TZID:America/New_York
BEGIN:DAYLIGHT
TZOFFSETFROM:-0500
TZOFFSETTO:-0400
TZNAME:EDT
DTSTART:20250309T070000
END:DAYLIGHT
BEGIN:STANDARD
TZOFFSETFROM:-0400
TZOFFSETTO:-0500
TZNAME:EST
DTSTART:20251102T060000
END:STANDARD
BEGIN:DAYLIGHT
TZOFFSETFROM:-0500
TZOFFSETTO:-0400
TZNAME:EDT
DTSTART:20260308T070000
END:DAYLIGHT
BEGIN:STANDARD
TZOFFSETFROM:-0400
TZOFFSETTO:-0500
TZNAME:EST
DTSTART:20261101T060000
END:STANDARD
BEGIN:DAYLIGHT
TZOFFSETFROM:-0500
TZOFFSETTO:-0400
TZNAME:EDT
DTSTART:20270314T070000
END:DAYLIGHT
BEGIN:STANDARD
TZOFFSETFROM:-0400
TZOFFSETTO:-0500
TZNAME:EST
DTSTART:20271107T060000
END:STANDARD
END:VTIMEZONE
BEGIN:VEVENT
DTSTART;TZID=America/New_York:20260607T100000
DTEND;TZID=America/New_York:20260607T120000
DTSTAMP:20260424T175147
CREATED:20251223T194024Z
LAST-MODIFIED:20260403T234141Z
UID:7306-1780826400-1780833600@www.fabric-of-life.org
SUMMARY:June 7\, 2026: Planting the Dye Garden
DESCRIPTION:Attend a two hour workshop with natural dyer\, weaver\, and spinner\, Michelle Parrish and learn about planning a dye garden\, and selecting\, planting\, and growing natural dye plants. Expect to get your hands dirty as we spend the second portion of this workshop planting out the Fabric of Life dye garden. \nWorkshop is open to gardeners\, dyers\, and enthusiasts of all experience levels. \n  \nREGISTER
URL:https://www.fabric-of-life.org/event/june-7-2026-planting-the-dye-garden/
LOCATION:Fabric of Life Farmhouse\, 80 Bassett Road\, Shelburne\, MA\, 01370
CATEGORIES:In Person Programs
ATTACH;FMTTYPE=image/jpeg:https://www.fabric-of-life.org/FoL/wp-content/uploads/2026/03/IMG_7839_.jpg
END:VEVENT
BEGIN:VEVENT
DTSTART;TZID=America/New_York:20260620T140000
DTEND;TZID=America/New_York:20260620T233000
DTSTAMP:20260424T175147
CREATED:20260309T222002Z
LAST-MODIFIED:20260309T222002Z
UID:7486-1781964000-1781998200@www.fabric-of-life.org
SUMMARY:Tamburitza Orchestra Play Along
DESCRIPTION:This powerful music is contagious and accessible. Native to Serbia\, Croatia and neighboring regions\, it also has had a strong presence in the US for over a century\, where pockets of immigrants have kept this joyful culture alive. See our list of links below to learn more. \nPlease consider joining this orchestra for the day if you play plucked or bowed strings\, accordion\, or like to sing! These tunes fit well on the traditional tamburica instruments which are tuned in 4ths\, but can also be played on mandolins or other plucked strings as well as fiddles of course. \n  \nLearn More & Register
URL:https://www.fabric-of-life.org/event/tamburitza-orchestra-play-along/
LOCATION:Fabric of Life Farmhouse\, 80 Bassett Road\, Shelburne\, MA\, 01370
CATEGORIES:In Person Programs
ATTACH;FMTTYPE=image/jpeg:https://www.fabric-of-life.org/FoL/wp-content/uploads/2026/03/instuments.jpg
END:VEVENT
BEGIN:VEVENT
DTSTART;TZID=America/New_York:20260627T090000
DTEND;TZID=America/New_York:20260627T170000
DTSTAMP:20260424T175147
CREATED:20260207T024417Z
LAST-MODIFIED:20260207T024417Z
UID:7469-1782550800-1782579600@www.fabric-of-life.org
SUMMARY:June 27\, 2026: Hexagonal Base Basket with Wendy Jensen
DESCRIPTION:This rattan basket is based on a traditional Shaker basket design using a hexagonal weave for the base.  The basket transitions to a plain weave up the sides and is finished with an interesting folded and lashed rim.  An attractive fine basket to hold a small project or simply to hang on the wall. \n  \nREGISTER
URL:https://www.fabric-of-life.org/event/june-27-2026-hexagonal-base-basket-with-wendy-jensen/
LOCATION:Fabric of Life Farmhouse\, 80 Bassett Road\, Shelburne\, MA\, 01370
CATEGORIES:In Person Programs
ATTACH;FMTTYPE=image/jpeg:https://www.fabric-of-life.org/FoL/wp-content/uploads/2026/02/JensenW-Hexagonal-Base-Basket.jpg
END:VEVENT
END:VCALENDAR