BEGIN:VCALENDAR
VERSION:2.0
PRODID:-//Fabric of Life - ECPv6.15.20//NONSGML v1.0//EN
CALSCALE:GREGORIAN
METHOD:PUBLISH
X-ORIGINAL-URL:https://www.fabric-of-life.org
X-WR-CALDESC:Events for Fabric of Life
REFRESH-INTERVAL;VALUE=DURATION:PT1H
X-Robots-Tag:noindex
X-PUBLISHED-TTL:PT1H
BEGIN:VTIMEZONE
TZID:America/New_York
BEGIN:DAYLIGHT
TZOFFSETFROM:-0500
TZOFFSETTO:-0400
TZNAME:EDT
DTSTART:20230312T070000
END:DAYLIGHT
BEGIN:STANDARD
TZOFFSETFROM:-0400
TZOFFSETTO:-0500
TZNAME:EST
DTSTART:20231105T060000
END:STANDARD
BEGIN:DAYLIGHT
TZOFFSETFROM:-0500
TZOFFSETTO:-0400
TZNAME:EDT
DTSTART:20240310T070000
END:DAYLIGHT
BEGIN:STANDARD
TZOFFSETFROM:-0400
TZOFFSETTO:-0500
TZNAME:EST
DTSTART:20241103T060000
END:STANDARD
BEGIN:DAYLIGHT
TZOFFSETFROM:-0500
TZOFFSETTO:-0400
TZNAME:EDT
DTSTART:20250309T070000
END:DAYLIGHT
BEGIN:STANDARD
TZOFFSETFROM:-0400
TZOFFSETTO:-0500
TZNAME:EST
DTSTART:20251102T060000
END:STANDARD
END:VTIMEZONE
BEGIN:VEVENT
DTSTART;VALUE=DATE:20241102
DTEND;VALUE=DATE:20241103
DTSTAMP:20260425T192337
CREATED:20240822T123232Z
LAST-MODIFIED:20241029T140333Z
UID:5494-1730505600-1730591999@www.fabric-of-life.org
SUMMARY:November 2\, 2024: Digital Printmaking Reception & Workshop
DESCRIPTION:Saturday\, November 2\, 2024 \nPublic Reception: 1PM to 3PM EST \nThe Bassett Homestead will be open to the public for a reception showcasing John Marcy’s work over the past 40 years as a photographer and printmaker. Prints available for purchase. \nPlease RSVP below \n  \nWorkshop: 9AM to 12PM EST \nDuring the morning workshop\, Master Printmaker John Marcy will incorporate his extensive experience with traditional methods of printmaking as he demonstrates his process of digital photo editing. John says “it is perfectly possible to make a beautiful digital print that that pushes back against the standard digital look.” During this workshop\, he will teach participants how he works with photo negatives and digital images to produce archive quality prints. \nRegister for Workshop\n  \nJohn Marcy has been involved in various aspects of photographic work for over 40 years. His work in black-and-white printmaking for important contemporary and historically important photographers has been exhibited in many venues\, including The Museum of Modern Art\, The Wadsworth Atheneum\, The National Museum of Women in the Arts\, The Worcester Art Museum and a traveling exhibition for the National Geographic Society. John’s work on the 21st Editions Collections was on display in the National Gallery of Art this summer.
URL:https://www.fabric-of-life.org/event/digital-printmaking-reception-workshop/
LOCATION:MA
CATEGORIES:In Person Programs,Virtual Programs
ATTACH;FMTTYPE=image/jpeg:https://www.fabric-of-life.org/FoL/wp-content/uploads/2024/09/Leni_01_cr2.jpg
END:VEVENT
END:VCALENDAR