BEGIN:VCALENDAR
VERSION:2.0
PRODID:-//Fabric of Life - ECPv6.15.20//NONSGML v1.0//EN
CALSCALE:GREGORIAN
METHOD:PUBLISH
X-WR-CALNAME:Fabric of Life
X-ORIGINAL-URL:https://www.fabric-of-life.org
X-WR-CALDESC:Events for Fabric of Life
REFRESH-INTERVAL;VALUE=DURATION:PT1H
X-Robots-Tag:noindex
X-PUBLISHED-TTL:PT1H
BEGIN:VTIMEZONE
TZID:America/New_York
BEGIN:DAYLIGHT
TZOFFSETFROM:-0500
TZOFFSETTO:-0400
TZNAME:EDT
DTSTART:20230312T070000
END:DAYLIGHT
BEGIN:STANDARD
TZOFFSETFROM:-0400
TZOFFSETTO:-0500
TZNAME:EST
DTSTART:20231105T060000
END:STANDARD
BEGIN:DAYLIGHT
TZOFFSETFROM:-0500
TZOFFSETTO:-0400
TZNAME:EDT
DTSTART:20240310T070000
END:DAYLIGHT
BEGIN:STANDARD
TZOFFSETFROM:-0400
TZOFFSETTO:-0500
TZNAME:EST
DTSTART:20241103T060000
END:STANDARD
BEGIN:DAYLIGHT
TZOFFSETFROM:-0500
TZOFFSETTO:-0400
TZNAME:EDT
DTSTART:20250309T070000
END:DAYLIGHT
BEGIN:STANDARD
TZOFFSETFROM:-0400
TZOFFSETTO:-0500
TZNAME:EST
DTSTART:20251102T060000
END:STANDARD
END:VTIMEZONE
BEGIN:VEVENT
DTSTART;VALUE=DATE:20240826
DTEND;VALUE=DATE:20241019
DTSTAMP:20260425T210753
CREATED:20240118T232924Z
LAST-MODIFIED:20240118T232924Z
UID:4911-1724630400-1729295999@www.fabric-of-life.org
SUMMARY:2024 Väv Immersion Weaving Intensive
DESCRIPTION:Väv Immersion is an 8-week Scandinavian weaving intensive co-sponsored by Fabric of Life and Vävstuga Weaving School. \nThis comprehensive course includes challenging projects\, extensive theory classes\, and an immersive artisanal community. Väv Immersion is an experience to be remembered for a lifetime. The knowledge gained from this program creates a foundation for further professional opportunities such as museum work\, production weaving\, textile retail\, and teaching. Ultimately\, the preservation of the tradition\, culture\, and function of hand weaving for future generations is carried forward through this intensive program. \nLEARN MORE
URL:https://www.fabric-of-life.org/event/2024-vav-immersion-weaving-intensive/
LOCATION:Fabric of Life Farmhouse\, 80 Bassett Road\, Shelburne\, MA\, 01370
CATEGORIES:In Person Programs
ATTACH;FMTTYPE=image/jpeg:https://www.fabric-of-life.org/FoL/wp-content/uploads/2024/01/IMG_1703-scaled.jpg
END:VEVENT
BEGIN:VEVENT
DTSTART;TZID=America/New_York:20241005T130000
DTEND;TZID=America/New_York:20241005T233000
DTSTAMP:20260425T210753
CREATED:20240222T154007Z
LAST-MODIFIED:20240918T023537Z
UID:4950-1728133200-1728171000@www.fabric-of-life.org
SUMMARY:Barnfest 2024
DESCRIPTION:Join us at Barnfest on October 5th\, 2024! \nYou won’t want to miss our biggest community event of the year! We will have a variety of demonstrations\, mini-workshops\, raffles\, a buffet dinner\, and after-dinner musical entertainment into the wee hours of the morning. \nBarnfest is a FREE full day event that includes local crafters and artisans\, musicians\, kid’s activities\, dancing\, food\, and the weaving together of an amazingly vibrant community. \nLearn More
URL:https://www.fabric-of-life.org/event/barnfest-2024/
LOCATION:Fabric of Life Farmhouse\, 80 Bassett Road\, Shelburne\, MA\, 01370
CATEGORIES:In Person Programs
ATTACH;FMTTYPE=image/jpeg:https://www.fabric-of-life.org/FoL/wp-content/uploads/2023/12/IMG_7060-scaled.jpg
END:VEVENT
BEGIN:VEVENT
DTSTART;TZID=America/New_York:20241013T110000
DTEND;TZID=America/New_York:20241013T170000
DTSTAMP:20260425T210753
CREATED:20240823T235144Z
LAST-MODIFIED:20240930T192107Z
UID:5502-1728817200-1728838800@www.fabric-of-life.org
SUMMARY:October 13\, 2024: Natural Dyeing Workshop
DESCRIPTION:Do you want to learn how to use the dye plants you have grown to dye yarn or fabric? Making your own dyes allows you to be connected to the colors you use in an intimate and thoughtful way. During this workshop\, natural dyer\, weaver\, and spinner\, Michelle Parrish will teach techniques for using natural dye plants to create a range of vibrant colors on yarn or fabric. \nLearn More & Register
URL:https://www.fabric-of-life.org/event/october-13-2024-natural-dyeing-workshop/
LOCATION:Fabric of Life Farmhouse\, 80 Bassett Road\, Shelburne\, MA\, 01370
CATEGORIES:In Person Programs
ATTACH;FMTTYPE=image/jpeg:https://www.fabric-of-life.org/FoL/wp-content/uploads/2024/08/20240905_185419457_iOS-scaled-e1727721394643.jpg
END:VEVENT
BEGIN:VEVENT
DTSTART;TZID=America/New_York:20241018T160000
DTEND;TZID=America/New_York:20241018T180000
DTSTAMP:20260425T210753
CREATED:20240930T195229Z
LAST-MODIFIED:20240930T201829Z
UID:5605-1729267200-1729274400@www.fabric-of-life.org
SUMMARY:Väv Immersion Exhibition
DESCRIPTION:Väv Immersion Celebration & GRAND EXHIBITION\nFriday\, Oct 18\, 4-6 pm – Come and go as you please!\n80 Bassett Road\, Shelburne Center MA 01370 \nMeet our wonderful students!\nSee an exhibit of their work\nCelebrate their accomplishments \nYUMMY Edible treats\n& stories of their weaving days \nFOR 8 WEEKS\nThey have been\nDESIGNING\nWEAVING\nHEMMING\nLEARNING\ncopious amounts\nabout making\ntextiles\n——\nTHEIR\nBINDERS ARE\nFABULOUS \n \nDownload Flyer
URL:https://www.fabric-of-life.org/event/vav-immersion-exhibition-2024/
LOCATION:Fabric of Life Farmhouse\, 80 Bassett Road\, Shelburne\, MA\, 01370
CATEGORIES:In Person Programs
ATTACH;FMTTYPE=image/png:https://www.fabric-of-life.org/FoL/wp-content/uploads/2024/09/Immersion-2024.png
END:VEVENT
BEGIN:VEVENT
DTSTART;TZID=America/New_York:20241026T100000
DTEND;TZID=America/New_York:20241026T123000
DTSTAMP:20260425T210753
CREATED:20240222T155846Z
LAST-MODIFIED:20240411T225747Z
UID:4954-1729936800-1729945800@www.fabric-of-life.org
SUMMARY:October 26\, 2024 Broom Making Workshop
DESCRIPTION:Learn the craft of broom making and weave your own shaker combo broom during this 2.5 hour workshop with Eva Gaultney. Each session is limited to 8 participants. \nRegister for Morning Session\n10AM to 12:30PM EST \nRegister for Afternoon Session\n1:30PM to 4PM EST
URL:https://www.fabric-of-life.org/event/october-26-2024-broom-making-workshop/
LOCATION:Fabric of Life Farmhouse\, 80 Bassett Road\, Shelburne\, MA\, 01370
CATEGORIES:In Person Programs
ATTACH;FMTTYPE=image/jpeg:https://www.fabric-of-life.org/FoL/wp-content/uploads/2024/02/IMG_7340cr-scaled.jpg
END:VEVENT
END:VCALENDAR